BEGIN:VCALENDAR
VERSION:2.0
PRODID:-//Yachting Malta - ECPv6.10.0//NONSGML v1.0//EN
CALSCALE:GREGORIAN
METHOD:PUBLISH
X-ORIGINAL-URL:https://yachtingmalta.org
X-WR-CALDESC:Events for Yachting Malta
REFRESH-INTERVAL;VALUE=DURATION:PT1H
X-Robots-Tag:noindex
X-PUBLISHED-TTL:PT1H
BEGIN:VTIMEZONE
TZID:Europe/Malta
BEGIN:DAYLIGHT
TZOFFSETFROM:+0100
TZOFFSETTO:+0200
TZNAME:CEST
DTSTART:20200329T010000
END:DAYLIGHT
BEGIN:STANDARD
TZOFFSETFROM:+0200
TZOFFSETTO:+0100
TZNAME:CET
DTSTART:20201025T010000
END:STANDARD
END:VTIMEZONE
BEGIN:VEVENT
DTSTART;TZID=Europe/Malta:20201011T080000
DTEND;TZID=Europe/Malta:20201011T170000
DTSTAMP:20260425T225628
CREATED:20200126T150037Z
LAST-MODIFIED:20200126T150037Z
UID:2156-1602403200-1602435600@yachtingmalta.org
SUMMARY:2020 - Rolex Middle Sea Race Shakedown
DESCRIPTION:The Royal Malta Yacht Club will be hosting an RMSR Shakedown\, an opportunity for crews to shakedown in preparation for the Rolex Middle Sea Race. \nThis will be a day race of about three to four hours in duration. Starting and finishing at Marsamxett.
URL:https://yachtingmalta.org/event/2020-rolex-middle-sea-race-shakedown/
LOCATION:Marsamxett Harbour
ATTACH;FMTTYPE=image/jpeg:https://yachtingmalta.org/app/uploads/2020/01/marzamemi.jpg
ORGANIZER;CN="Royal Malta Yacht Club":MAILTO:info@rmyc.org
END:VEVENT
END:VCALENDAR