BEGIN:VCALENDAR
VERSION:2.0
PRODID:-//Yachting Malta - ECPv6.10.0//NONSGML v1.0//EN
CALSCALE:GREGORIAN
METHOD:PUBLISH
X-ORIGINAL-URL:https://yachtingmalta.org
X-WR-CALDESC:Events for Yachting Malta
REFRESH-INTERVAL;VALUE=DURATION:PT1H
X-Robots-Tag:noindex
X-PUBLISHED-TTL:PT1H
BEGIN:VTIMEZONE
TZID:Europe/Malta
BEGIN:DAYLIGHT
TZOFFSETFROM:+0100
TZOFFSETTO:+0200
TZNAME:CEST
DTSTART:20190331T010000
END:DAYLIGHT
BEGIN:STANDARD
TZOFFSETFROM:+0200
TZOFFSETTO:+0100
TZNAME:CET
DTSTART:20191027T010000
END:STANDARD
END:VTIMEZONE
BEGIN:VEVENT
DTSTART;TZID=Europe/Malta:20190504T093000
DTEND;TZID=Europe/Malta:20190505T170000
DTSTAMP:20260421T215053
CREATED:20190207T115331Z
LAST-MODIFIED:20190207T115656Z
UID:1393-1556962200-1557075600@yachtingmalta.org
SUMMARY:2019 | Sport Boats - Act 4
DESCRIPTION:The ever growing Sport Boat Class returns for 2019. The Sport Boats Class\, will see racing over two days\, generally on Saturday and Sunday will also be including Catamarans and Sailing Skiffs with different starts. Act 1 | 16 – 17  February Act 2 | 23 – 24 March Act 3| 13 – 14 April Act 4 | 4 – 5 May Act 5 | 8 – 9 June Act 6| 21 – 22 September Act 7| 5 – 6 October Act 8 | 2 – 3 November Act 9 | 7 – 8 December
URL:https://yachtingmalta.org/event/2019-sport-boats-act-4/
LOCATION:Royal Malta Yacht Club\, Malta
ATTACH;FMTTYPE=image/jpeg:https://yachtingmalta.org/app/uploads/2019/02/IMG_7375.jpg
ORGANIZER;CN="Royal Malta Yacht Club":MAILTO:info@rmyc.org
END:VEVENT
END:VCALENDAR