BEGIN:VCALENDAR
VERSION:2.0
PRODID:-//Yachting Malta - ECPv6.10.0//NONSGML v1.0//EN
CALSCALE:GREGORIAN
METHOD:PUBLISH
X-ORIGINAL-URL:https://yachtingmalta.org
X-WR-CALDESC:Events for Yachting Malta
REFRESH-INTERVAL;VALUE=DURATION:PT1H
X-Robots-Tag:noindex
X-PUBLISHED-TTL:PT1H
BEGIN:VTIMEZONE
TZID:Europe/Malta
BEGIN:DAYLIGHT
TZOFFSETFROM:+0100
TZOFFSETTO:+0200
TZNAME:CEST
DTSTART:20190331T010000
END:DAYLIGHT
BEGIN:STANDARD
TZOFFSETFROM:+0200
TZOFFSETTO:+0100
TZNAME:CET
DTSTART:20191027T010000
END:STANDARD
END:VTIMEZONE
BEGIN:VEVENT
DTSTART;TZID=Europe/Malta:20191115T130000
DTEND;TZID=Europe/Malta:20191117T170000
DTSTAMP:20260421T042330
CREATED:20190207T164201Z
LAST-MODIFIED:20190207T164201Z
UID:1458-1573822800-1574010000@yachtingmalta.org
SUMMARY:2019 | BOV Gozo Weekend Regatta
DESCRIPTION:After all the RMSR hype starts to die down\, RMYC crews and friends get ready for some serious sailing in Gozo. \n\n\n\n\nPhoto Courtesy RMYC/Stefan Abela
URL:https://yachtingmalta.org/event/2019-bov-gozo-weekend-regatta/
LOCATION:Gozo
ATTACH;FMTTYPE=image/jpeg:https://yachtingmalta.org/app/uploads/2019/02/IMG_6095-1.jpg
ORGANIZER;CN="Royal Malta Yacht Club":MAILTO:info@rmyc.org
END:VEVENT
BEGIN:VEVENT
DTSTART;TZID=Europe/Malta:20191130T080000
DTEND;TZID=Europe/Malta:20191130T230000
DTSTAMP:20260421T042330
CREATED:20190207T164324Z
LAST-MODIFIED:20190207T164324Z
UID:1462-1575100800-1575154800@yachtingmalta.org
SUMMARY:2019 | Raymarine Double Handed Figure of 8
DESCRIPTION:Not for the fainthearted this challenging race has been on the calendar for over two decades and always a popular event.
URL:https://yachtingmalta.org/event/2019-raymarine-double-handed-figure-of-8/
ATTACH;FMTTYPE=image/jpeg:https://yachtingmalta.org/app/uploads/2019/02/raymarinedoublehanded00618.jpg
ORGANIZER;CN="Royal Malta Yacht Club":MAILTO:info@rmyc.org
END:VEVENT
END:VCALENDAR