BEGIN:VCALENDAR
VERSION:2.0
PRODID:-//Yachting Malta - ECPv6.10.0//NONSGML v1.0//EN
CALSCALE:GREGORIAN
METHOD:PUBLISH
X-ORIGINAL-URL:https://yachtingmalta.org
X-WR-CALDESC:Events for Yachting Malta
REFRESH-INTERVAL;VALUE=DURATION:PT1H
X-Robots-Tag:noindex
X-PUBLISHED-TTL:PT1H
BEGIN:VTIMEZONE
TZID:Europe/Malta
BEGIN:DAYLIGHT
TZOFFSETFROM:+0100
TZOFFSETTO:+0200
TZNAME:CEST
DTSTART:20190331T010000
END:DAYLIGHT
BEGIN:STANDARD
TZOFFSETFROM:+0200
TZOFFSETTO:+0100
TZNAME:CET
DTSTART:20191027T010000
END:STANDARD
END:VTIMEZONE
BEGIN:VEVENT
DTSTART;TZID=Europe/Malta:20190511T080000
DTEND;TZID=Europe/Malta:20190511T170000
DTSTAMP:20260421T160146
CREATED:20190207T122821Z
LAST-MODIFIED:20190207T122821Z
UID:1416-1557561600-1557594000@yachtingmalta.org
SUMMARY:2019 | Single Handed Round Gozo Race
DESCRIPTION:A new race featuring on the calendar. Race will take place on a Saturday \nPhoto Courtesy: Royal Malta Yacht Club
URL:https://yachtingmalta.org/event/2019-single-handed-round-gozo-race/
ATTACH;FMTTYPE=image/jpeg:https://yachtingmalta.org/app/uploads/2019/02/IMG_8002.jpg
ORGANIZER;CN="Royal Malta Yacht Club":MAILTO:info@rmyc.org
END:VEVENT
END:VCALENDAR