BEGIN:VCALENDAR
VERSION:2.0
PRODID:-//Yachting Malta - ECPv6.10.0//NONSGML v1.0//EN
CALSCALE:GREGORIAN
METHOD:PUBLISH
X-ORIGINAL-URL:https://yachtingmalta.org
X-WR-CALDESC:Events for Yachting Malta
REFRESH-INTERVAL;VALUE=DURATION:PT1H
X-Robots-Tag:noindex
X-PUBLISHED-TTL:PT1H
BEGIN:VTIMEZONE
TZID:Europe/Malta
BEGIN:DAYLIGHT
TZOFFSETFROM:+0100
TZOFFSETTO:+0200
TZNAME:CEST
DTSTART:20190331T010000
END:DAYLIGHT
BEGIN:STANDARD
TZOFFSETFROM:+0200
TZOFFSETTO:+0100
TZNAME:CET
DTSTART:20191027T010000
END:STANDARD
END:VTIMEZONE
BEGIN:VEVENT
DTSTART;TZID=Europe/Malta:20190713T080000
DTEND;TZID=Europe/Malta:20190713T170000
DTSTAMP:20260421T125406
CREATED:20190207T163742Z
LAST-MODIFIED:20190207T163742Z
UID:1452-1563004800-1563037200@yachtingmalta.org
SUMMARY:2019 | Malta - Syracuse Race
DESCRIPTION:The oldest race on the RMYC Calendar\, the Malta – Syracuse race will celebrate it’s 59th Birthday this July.   Racers are also invited to consider taking part in the  Messina – Syracuse Race\, which  will compliment this race.  Alternatively one can take part in any of the two.  Prizes for competing in both races will be given at the Malta – Syracuse Race\, which will retain the usual format.
URL:https://yachtingmalta.org/event/2019-malta-syracuse-race/
ATTACH;FMTTYPE=image/jpeg:https://yachtingmalta.org/app/uploads/2019/02/IMG_6397.jpg
ORGANIZER;CN="Royal Malta Yacht Club":MAILTO:info@rmyc.org
END:VEVENT
END:VCALENDAR